BEGIN:VCALENDAR
PRODID:-//kirchenweb.ch gmbh//veranstaltungsausgabe v2.0//DE
VERSION:2.0
METHOD:PUBLISH
BEGIN:VEVENT
DTSTART:20220322T142500Z
DTEND:20220322T151500Z
LOCATION:Pfarrhaussaal\, Kirchweg 3\, 9113  Degersheim
TRANSP:OPAQUE
SEQUENCE:0
UID:27216-veranstaltung@kirche-gossau-flawil.ch
DTSTAMP:20210709T070152Z
DESCRIPTION:Kontakt: Regula Stieger\n\nWeitere Infos:
  https://www.kirche-gossau-flawil.ch/veranstaltung/27216
SUMMARY:Religionsunterricht 4. Klasse
PRIORITY:5
X-MICROSOFT-CDO-IMPORTANCE:1
CLASS:PUBLIC
END:VEVENT
END:VCALENDAR
