BEGIN:VCALENDAR
PRODID:-//kirchenweb.ch gmbh//veranstaltungsausgabe v2.0//DE
VERSION:2.0
METHOD:PUBLISH
BEGIN:VEVENT
DTSTART:20220322T124500Z
DTEND:20220322T142500Z
LOCATION:Pfarrhaussaal\, Kirchweg 3\, 9113  Degersheim
TRANSP:OPAQUE
SEQUENCE:0
UID:27255-veranstaltung@kirche-gossau-flawil.ch
DTSTAMP:20210709T070544Z
DESCRIPTION:Kontakt: Regula Stieger\n\nWeitere Infos:
  https://www.kirche-gossau-flawil.ch/veranstaltung/27255
SUMMARY:Religionsunterricht 3. Klasse
PRIORITY:5
X-MICROSOFT-CDO-IMPORTANCE:1
CLASS:PUBLIC
END:VEVENT
END:VCALENDAR
