BEGIN:VCALENDAR
PRODID:-//kirchenweb.ch gmbh//veranstaltungsausgabe v2.0//DE
VERSION:2.0
METHOD:PUBLISH
BEGIN:VEVENT
DTSTART:20220322T083000Z
DTEND:20220322T093000Z
LOCATION:Altersheim Feldegg\, Feldeggstrasse 6\, 9113 Degersheim
TRANSP:OPAQUE
SEQUENCE:0
UID:29407-veranstaltung@kirche-gossau-flawil.ch
DTSTAMP:20220225T105031Z
DESCRIPTION:Zur Zeit nur für Bewohnende des Tertianums\n\nKontakt:
  Pfarrerin Ute Latuski-Ramm\n\nWeitere Infos:
  https://www.kirche-gossau-flawil.ch/veranstaltung/29407
SUMMARY:Gottesdienst im Tertianum Feldegg
PRIORITY:5
X-MICROSOFT-CDO-IMPORTANCE:1
CLASS:PUBLIC
END:VEVENT
END:VCALENDAR
