BEGIN:VCALENDAR
PRODID:-//kirchenweb.ch gmbh//veranstaltungsausgabe v2.0//DE
VERSION:2.0
METHOD:PUBLISH
BEGIN:VEVENT
DTSTART:20220325T181500Z
DTEND:20220325T200000Z
LOCATION:Kirchgemeindehaus\, Steineggstrasse 12\, 9113 Degersheim
TRANSP:OPAQUE
SEQUENCE:0
UID:29469-veranstaltung@kirche-gossau-flawil.ch
DTSTAMP:20220318T085339Z
DESCRIPTION:Jeden zweiten Freitag von 19.15 bis ca. 20.30 Uhr - für alle
  die in der 5. und 6. Klasse sind!\n\nGruppenspiele mit Fun-Garantie\, ein
  Kurzinput und im Anschluss an das alles öffnet unsere Bar für euch.
  Einfach cool! Also los - vorbeikommen\, mitmachen und den Abend in der
  2gether-Gemeinschaft geniessen!\n\nKontakt: André Eberle\n\nWeitere
  Infos: https://www.kirche-gossau-flawil.ch/veranstaltung/29469
SUMMARY:2gether (5. + 6. Klasse)
PRIORITY:5
X-MICROSOFT-CDO-IMPORTANCE:1
CLASS:PUBLIC
END:VEVENT
END:VCALENDAR
