BEGIN:VCALENDAR
PRODID:-//kirchenweb.ch gmbh//veranstaltungsausgabe v2.0//DE
VERSION:2.0
METHOD:PUBLISH
BEGIN:VEVENT
DTSTART:20220322T173000Z
DTEND:20220322T184500Z
LOCATION:Kirchgemeindehaus\, Steineggstrasse 12\, 9113 Degersheim
TRANSP:OPAQUE
SEQUENCE:0
UID:29610-veranstaltung@kirche-gossau-flawil.ch
DTSTAMP:20220311T101601Z
DESCRIPTION:Roundabout «kids» - für Mädchen von 8 bis 13 Jahren\n
 \nKontakt: Susanna Heller\n\nWeitere Infos:
  https://www.kirche-gossau-flawil.ch/veranstaltung/29610
SUMMARY:Roundabout «kids».
PRIORITY:5
X-MICROSOFT-CDO-IMPORTANCE:1
CLASS:PUBLIC
END:VEVENT
END:VCALENDAR
