BEGIN:VCALENDAR
PRODID:-//kirchenweb.ch gmbh//veranstaltungsausgabe v2.0//DE
VERSION:2.0
METHOD:PUBLISH
BEGIN:VEVENT
DTSTART:20220322T173000Z
DTEND:20220322T183000Z
LOCATION:Kirchgemeindehaus\, Steineggstrasse 12\, 9113 Degersheim
TRANSP:OPAQUE
SEQUENCE:0
UID:29648-veranstaltung@kirche-gossau-flawil.ch
DTSTAMP:20211211T183045Z
DESCRIPTION:Roundabout «minis» für Mädchen ab ca. 5 bis 8 Jahre\n
 \nKontakt: Susanna Heller\n\nWeitere Infos:
  https://www.kirche-gossau-flawil.ch/veranstaltung/29648
SUMMARY:Roundabout «minis».
PRIORITY:5
X-MICROSOFT-CDO-IMPORTANCE:1
CLASS:PUBLIC
END:VEVENT
END:VCALENDAR
