BEGIN:VCALENDAR
PRODID:-//kirchenweb.ch gmbh//veranstaltungsausgabe v2.0//DE
VERSION:2.0
METHOD:PUBLISH
BEGIN:VEVENT
DTSTART:20220321T083000Z
DTEND:20220321T100000Z
LOCATION:Pfarrhaussaal\, Kirchweg 3\, 9113  Degersheim
TRANSP:OPAQUE
SEQUENCE:0
UID:29683-veranstaltung@kirche-gossau-flawil.ch
DTSTAMP:20211211T203218Z
DESCRIPTION:Wir treffen uns zwei Mal im Monat am Montagmorgen.\n\nKontakt:
  Ruth Dänzer\n\nWeitere Infos:
  https://www.kirche-gossau-flawil.ch/veranstaltung/29683
SUMMARY:Frauenbibeltreff
PRIORITY:5
X-MICROSOFT-CDO-IMPORTANCE:1
CLASS:PUBLIC
END:VEVENT
END:VCALENDAR
