BEGIN:VCALENDAR
PRODID:-//kirchenweb.ch gmbh//veranstaltungsausgabe v2.0//DE
VERSION:2.0
METHOD:PUBLISH
BEGIN:VEVENT
DTSTART:20220324T143000Z
DTEND:20220324T153000Z
LOCATION:Evangelisch Reformierte Kirche\, Steineggstrasse 12\, 9113
  Degersheim
TRANSP:OPAQUE
SEQUENCE:0
UID:29766-veranstaltung@kirche-gossau-flawil.ch
DTSTAMP:20220215T080044Z
DESCRIPTION:Kontakt: Moni Ruprecht\n\nWeitere Infos:
  https://www.kirche-gossau-flawil.ch/veranstaltung/29766
SUMMARY:Probe Kivi-Kids Band
PRIORITY:5
X-MICROSOFT-CDO-IMPORTANCE:1
CLASS:PUBLIC
END:VEVENT
END:VCALENDAR
