BEGIN:VCALENDAR
PRODID:-//kirchenweb.ch gmbh//veranstaltungsausgabe v2.0//DE
VERSION:2.0
METHOD:PUBLISH
BEGIN:VEVENT
DTSTART:20220323T190000Z
DTEND:20220323T210000Z
LOCATION:Evangelisch Reformierte Kirche\, Steineggstrasse 10\, 9113
  Degersheim
TRANSP:OPAQUE
SEQUENCE:0
UID:29793-veranstaltung@kirche-gossau-flawil.ch
DTSTAMP:20220316T141259Z
DESCRIPTION:Kontakt: Andreas Baumann - Gemeinde Degersheim\n\nWeitere
  Infos: https://www.kirche-gossau-flawil.ch/veranstaltung/29793
SUMMARY:Vorversammlung der Gemeinde Degersheim
PRIORITY:5
X-MICROSOFT-CDO-IMPORTANCE:1
CLASS:PUBLIC
END:VEVENT
END:VCALENDAR
