BEGIN:VCALENDAR
PRODID:-//kirchenweb.ch gmbh//veranstaltungsausgabe v2.0//DE
VERSION:2.0
METHOD:PUBLISH
BEGIN:VEVENT
DTSTART:20220328T180000Z
DTEND:20220328T200000Z
LOCATION:Kirche Sulgen\, \, 8583 Sulgen
TRANSP:OPAQUE
SEQUENCE:0
UID:29818-veranstaltung@kirche-gossau-flawil.ch
DTSTAMP:20211224T085157Z
DESCRIPTION:Kontakt: Roland Van Rhijn\n\nWeitere Infos:
  https://www.kirche-gossau-flawil.ch/veranstaltung/29818
SUMMARY:Kirchenchor Probe in Sulgen
PRIORITY:5
X-MICROSOFT-CDO-IMPORTANCE:1
CLASS:PUBLIC
END:VEVENT
END:VCALENDAR
