BEGIN:VCALENDAR
PRODID:-//kirchenweb.ch gmbh//veranstaltungsausgabe v2.0//DE
VERSION:2.0
METHOD:PUBLISH
BEGIN:VEVENT
DTSTART:20220328T063000Z
DTEND:20220328T093000Z
LOCATION:Kirchgemeindehaus\, Steineggstrasse 12\, 9113 Degersheim
TRANSP:OPAQUE
SEQUENCE:0
UID:29967-veranstaltung@kirche-gossau-flawil.ch
DTSTAMP:20220107T171428Z
DESCRIPTION:Neue Sprache\, neue Kultur – da gibt es viel zu lernen. Ein
  Sprachförderungsangebot unterstützt Kinder mit Migrationshintergrund im
  Vorschulalter beim Einstieg ins schweizerische Schulsystem. Um den
  Kindern den Eintritt in den Kindergarten zu erleichtern\, wird in
  Degersheim das Sprachförderungsangebot «Elki – Wir spielen Deutsch»
  angeboten. Es bereitet Kinder ab Geburt bis zum Kindergarteneintritt und
  ihre Eltern auf das schweizerische Schulsystem vor. Sie als Mutter oder
  Vater begleiten ihr Kind ins Elki.
 \nhttps://www.schule-degersheim.ch/DE/108/ElKiWirspielenDeutsch.htm\n
 \nKontakt: Sarina Ledergerber - Fachstelle Schule Degersheim\n\n\nWeitere
  Infos: https://www.kirche-gossau-flawil.ch/veranstaltung/29967
SUMMARY:ElKi - wir spielen Deutsch
PRIORITY:5
X-MICROSOFT-CDO-IMPORTANCE:1
CLASS:PUBLIC
END:VEVENT
END:VCALENDAR
