BEGIN:VCALENDAR
PRODID:-//kirchenweb.ch gmbh//veranstaltungsausgabe v2.0//DE
VERSION:2.0
METHOD:PUBLISH
BEGIN:VEVENT
DTSTART:20220324T183000Z
DTEND:20220324T190000Z
LOCATION:Evangelisch Reformierte Kirche\, Steineggstrasse 10\, 9113
  Degersheim
TRANSP:OPAQUE
SEQUENCE:0
UID:30431-veranstaltung@kirche-gossau-flawil.ch
DTSTAMP:20220301T112149Z
DESCRIPTION:Kontakt: Pfarrerin Ute Latuski-Ramm\n\nWeitere Infos:
  https://www.kirche-gossau-flawil.ch/veranstaltung/30431
SUMMARY:Friedensgebet
PRIORITY:5
X-MICROSOFT-CDO-IMPORTANCE:1
CLASS:PUBLIC
END:VEVENT
END:VCALENDAR
