BEGIN:VCALENDAR
PRODID:-//kirchenweb.ch gmbh//veranstaltungsausgabe v2.0//DE
VERSION:2.0
METHOD:PUBLISH
BEGIN:VEVENT
DTSTART:20220329T060000Z
DTEND:20220329T150000Z
LOCATION:Kirchgemeindehaus\, Steineggstrasse 12\, 9113 Degersheim
TRANSP:OPAQUE
SEQUENCE:0
UID:30501-veranstaltung@kirche-gossau-flawil.ch
DTSTAMP:20220303T082318Z
DESCRIPTION:KleiderSammlung für die Ukraine\n\nKontakt: Doris Ruch\n
 \nWeitere Infos: https://www.kirche-gossau-flawil.ch/veranstaltung/30501
SUMMARY:Kleidersammlung
PRIORITY:5
X-MICROSOFT-CDO-IMPORTANCE:1
CLASS:PUBLIC
END:VEVENT
END:VCALENDAR
