BEGIN:VCALENDAR
PRODID:-//kirchenweb.ch gmbh//veranstaltungsausgabe v2.0//DE
VERSION:2.0
METHOD:PUBLISH
BEGIN:VEVENT
DTSTART:20251124T083000Z
DTEND:20251124T100000Z
LOCATION:Kirchgemeindehaus\, Steineggstrasse 12\, 9113 Degersheim
TRANSP:OPAQUE
SEQUENCE:0
UID:41490-veranstaltung@kirche-gossau-flawil.ch
DTSTAMP:20240917T093312Z
DESCRIPTION:Wir treffen uns zwei Mal im Monat am Montagmorgen.\n\nKontakt:
  Ruth Dänzer\n\nWeitere Infos:
  https://www.kirche-gossau-flawil.ch/veranstaltung/41490
SUMMARY:Frauenbibeltreff
PRIORITY:5
X-MICROSOFT-CDO-IMPORTANCE:1
CLASS:PUBLIC
END:VEVENT
END:VCALENDAR
