BEGIN:VCALENDAR
PRODID:-//kirchenweb.ch gmbh//veranstaltungsausgabe v2.0//DE
VERSION:2.0
METHOD:PUBLISH
BEGIN:VEVENT
DTSTART:20251025T170000Z
DTEND:20251025T173000Z
LOCATION:Kirchgemeindehaus oder Kirche oder Schulungsraum\,
  Steineggstrasse 12\, 9113 Degersheim
TRANSP:OPAQUE
SEQUENCE:0
UID:42775-veranstaltung@kirche-gossau-flawil.ch
DTSTAMP:20251021T122145Z
DESCRIPTION:Bericht: Blick nach Tansania mit Mathias Rellstab\, Mission am
  Nil\n\nKontakt: Pfarrer Kurt Witzig\n\nWeitere Infos:
  https://www.kirche-gossau-flawil.ch/veranstaltung/42775
SUMMARY:Bericht: Blick nach Tansania\, Mission am Nil
PRIORITY:5
X-MICROSOFT-CDO-IMPORTANCE:1
CLASS:PUBLIC
END:VEVENT
END:VCALENDAR
