BEGIN:VCALENDAR
PRODID:-//kirchenweb.ch gmbh//veranstaltungsausgabe v2.0//DE
VERSION:2.0
METHOD:PUBLISH
BEGIN:VEVENT
DTSTART:20261020T063000Z
DTEND:20261020T140000Z
LOCATION:Kirchgemeindehaus\, Steineggstrasse 12\, 9113 Degersheim
TRANSP:OPAQUE
SEQUENCE:0
UID:43575-veranstaltung@kirche-gossau-flawil.ch
DTSTAMP:20250214T122247Z
DESCRIPTION:Kontakt: Frau Regula Frischknecht\n\nWeitere Infos:
  https://www.kirche-gossau-flawil.ch/veranstaltung/43575
SUMMARY:Workshop Säntisblick intern
PRIORITY:5
X-MICROSOFT-CDO-IMPORTANCE:1
CLASS:PUBLIC
END:VEVENT
END:VCALENDAR
