BEGIN:VCALENDAR
PRODID:-//kirchenweb.ch gmbh//veranstaltungsausgabe v2.0//DE
VERSION:2.0
METHOD:PUBLISH
BEGIN:VEVENT
DTSTART:20261128T071500Z
DTEND:20261128T115900Z
LOCATION:Kirche\, Steineggstrasse 10\, 9113 Degersheim
TRANSP:OPAQUE
SEQUENCE:0
UID:45175-veranstaltung@kirche-gossau-flawil.ch
DTSTAMP:20250911T173033Z
DESCRIPTION:Kontakt: Moni Ruprecht\n\nWeitere Infos:
  https://www.kirche-gossau-flawil.ch/veranstaltung/45175
SUMMARY:Probetag Weihnachtsmuscial
PRIORITY:5
X-MICROSOFT-CDO-IMPORTANCE:1
CLASS:PUBLIC
END:VEVENT
END:VCALENDAR
