BEGIN:VCALENDAR
PRODID:-//kirchenweb.ch gmbh//veranstaltungsausgabe v2.0//DE
VERSION:2.0
METHOD:PUBLISH
BEGIN:VEVENT
DTSTART:20260923T180000Z
DTEND:20260923T193000Z
LOCATION:Kirche\, Steineggstrasse 10\, 9113 Degersheim
TRANSP:OPAQUE
SEQUENCE:0
UID:45251-veranstaltung@kirche-gossau-flawil.ch
DTSTAMP:20250911T180248Z
DESCRIPTION:Kontakt: Moni Ruprecht\n\nWeitere Infos:
  https://www.kirche-gossau-flawil.ch/veranstaltung/45251
SUMMARY:praise-up Teensband Probe
PRIORITY:5
X-MICROSOFT-CDO-IMPORTANCE:1
CLASS:PUBLIC
END:VEVENT
END:VCALENDAR
