BEGIN:VCALENDAR
PRODID:-//kirchenweb.ch gmbh//veranstaltungsausgabe v2.0//DE
VERSION:2.0
METHOD:PUBLISH
BEGIN:VEVENT
DTSTART:20261111T190000Z
DTEND:20261111T203000Z
LOCATION:Kirche\, Steineggstrasse 10\, 9113 Degersheim
TRANSP:OPAQUE
SEQUENCE:0
UID:45253-veranstaltung@kirche-gossau-flawil.ch
DTSTAMP:20250911T180250Z
DESCRIPTION:Kontakt: Moni Ruprecht\n\nWeitere Infos:
  https://www.kirche-gossau-flawil.ch/veranstaltung/45253
SUMMARY:praise-up Teensband Probe
PRIORITY:5
X-MICROSOFT-CDO-IMPORTANCE:1
CLASS:PUBLIC
END:VEVENT
END:VCALENDAR
