BEGIN:VCALENDAR
PRODID:-//kirchenweb.ch gmbh//veranstaltungsausgabe v2.0//DE
VERSION:2.0
METHOD:PUBLISH
BEGIN:VEVENT
DTSTART:20260626T173000Z
DTEND:20260626T193000Z
LOCATION:Kirchgemeindehaus\, Steineggstrasse 12\, 9113 Degersheim
TRANSP:OPAQUE
SEQUENCE:0
UID:45303-veranstaltung@kirche-gossau-flawil.ch
DTSTAMP:20250912T092915Z
DESCRIPTION:Wohi söli go? Natürli in Wogo!\nDer Treffpunkt für
  Jugendliche im Dorf! Komm auch und erlebe spannende Inputs\, gigantische
  Gruppenspiele und chillige Atmosphäre und vielem mehr!\nDie Gruppe
  trifft sich jeden zweiten Freitag und wird von jungen Erwachsenen
  geleitet.\n\nProgramm/Ablauf:\n19:30 Gemeinsamer Start\, Spiele\, Input\,
  usw..\n20:30 Offener Barbetrieb\n21:30 Ende\n\n\n\nKontakt: André Eberle
 \n\nWeitere Infos: https://www.kirche-gossau-flawil.ch/veranstaltung/45303
SUMMARY:wogo - Jugendtreff Oberstufe
PRIORITY:5
X-MICROSOFT-CDO-IMPORTANCE:1
CLASS:PUBLIC
END:VEVENT
END:VCALENDAR
