BEGIN:VCALENDAR
PRODID:-//kirchenweb.ch gmbh//veranstaltungsausgabe v2.0//DE
VERSION:2.0
METHOD:PUBLISH
BEGIN:VEVENT
DTSTART:20260620T165300Z
DTEND:20260620T184700Z
LOCATION:Kirchgemeindehaus\, Steineggstrasse 12\, 9113 Degersheim
TRANSP:OPAQUE
SEQUENCE:0
UID:45341-veranstaltung@kirche-gossau-flawil.ch
DTSTAMP:20260309T203716Z
DESCRIPTION:Zäme Gott und sis Wirke fiirä und en kennelerne. Erlebe
  packende Inputs\, angesagte Worship-Songs mit unserer Jugend-Band
  praise-up\, und coole Special Guests. Im Anschluss ist Open-End\, bei
  guter Witterung draussen am Feuer und sonst im Jugendraum\, immer mit
  kostenlosen Snacks und Drinks.\n----------------\n\nAb 1. Oberstufe bis
  16+ Jahre\n\n\nKontakt: André Eberle\n\nWeitere Infos:
  https://www.kirche-gossau-flawil.ch/veranstaltung/45341
SUMMARY:7G Youth-Gottesdienst
PRIORITY:5
X-MICROSOFT-CDO-IMPORTANCE:1
CLASS:PUBLIC
END:VEVENT
END:VCALENDAR
