BEGIN:VCALENDAR
PRODID:-//kirchenweb.ch gmbh//veranstaltungsausgabe v2.0//DE
VERSION:2.0
METHOD:PUBLISH
BEGIN:VEVENT
DTSTART:20261024T151500Z
DTEND:20261024T161500Z
LOCATION:Kirchgemeindehaus\, Steineggstrasse 12\, 9113 Degersheim
TRANSP:OPAQUE
SEQUENCE:0
UID:45352-veranstaltung@kirche-gossau-flawil.ch
DTSTAMP:20251212T145436Z
DESCRIPTION:anschliessend an den Gottesdienst sind alle herzlich zum
  Kirchenkaffee mit gemeinsamer Teiletä eingeladen. \n\nKontakt:
  Sekretariat\n\nWeitere Infos:
  https://www.kirche-gossau-flawil.ch/veranstaltung/45352
SUMMARY:GoDi am Samstag mit Worshipband und Team
PRIORITY:5
X-MICROSOFT-CDO-IMPORTANCE:1
CLASS:PUBLIC
END:VEVENT
END:VCALENDAR
