BEGIN:VCALENDAR
PRODID:-//kirchenweb.ch gmbh//veranstaltungsausgabe v2.0//DE
VERSION:2.0
METHOD:PUBLISH
BEGIN:VEVENT
DTSTART:20260509T080000Z
DTEND:20260509T090000Z
LOCATION:Evangelisch Reformierte Kirche\, Steineggstrasse 12\, 9113
  Degersheim
TRANSP:OPAQUE
SEQUENCE:0
UID:45493-veranstaltung@kirche-gossau-flawil.ch
DTSTAMP:20251212T142315Z
DESCRIPTION:Gottesdienst für Kinder ab 3 Jahren und ihre Eltern oder
  Grosseltern.\nIm Anschluss an die Feier geniessen wir das gemütliche
  Zusammensein im Kirchgemeindehaus/Pfarreiheim bei Kaffee\, Sirup und
  einem feinen Znüni.\n\nKontakt: Bettina Wartenweiler\n\nWeitere Infos:
  https://www.kirche-gossau-flawil.ch/veranstaltung/45493
SUMMARY:Ökum. Chinderchile im kath. Pfarreiheim
PRIORITY:5
X-MICROSOFT-CDO-IMPORTANCE:1
CLASS:PUBLIC
END:VEVENT
END:VCALENDAR
