BEGIN:VCALENDAR
PRODID:-//kirchenweb.ch gmbh//veranstaltungsausgabe v2.0//DE
VERSION:2.0
METHOD:PUBLISH
BEGIN:VEVENT
DTSTART:20261031T131500Z
DTEND:20261031T160000Z
LOCATION:Kirchgemeindehaus\, Steineggstrasse 12\, 9113 Degersheim
TRANSP:OPAQUE
SEQUENCE:0
UID:45563-veranstaltung@kirche-gossau-flawil.ch
DTSTAMP:20250930T062023Z
DESCRIPTION:Erlebnisreiche Generationenverbindende Begegnungszeit\nFindet
  bei jedem Wetter auf dem Reformations-Spielplatz statt.\nWir treffen uns
  an diesem Nachmittag zu Spiel\, Plausch\, Begegnung und Gemeinschaft
 \nMitnehmen: Eine Gemüseart für eine Suppe auf dem Feuer gekocht. Für
  Getränke wird gesorgt.\n\nKontakt: Bettina Wartenweiler\n\nWeitere
  Infos: https://www.kirche-gossau-flawil.ch/veranstaltung/45563
SUMMARY:FAZIT - Gemeinde-Familienzeit
PRIORITY:5
X-MICROSOFT-CDO-IMPORTANCE:1
CLASS:PUBLIC
END:VEVENT
END:VCALENDAR
