BEGIN:VCALENDAR
PRODID:-//kirchenweb.ch gmbh//veranstaltungsausgabe v2.0//DE
VERSION:2.0
METHOD:PUBLISH
BEGIN:VEVENT
DTSTART:20251122T071500Z
DTEND:20251122T111500Z
LOCATION:Kirchgemeindehaus\, Steineggstrasse 12\, 9113 Degersheim
TRANSP:OPAQUE
SEQUENCE:0
UID:45575-veranstaltung@kirche-gossau-flawil.ch
DTSTAMP:20251101T144144Z
DESCRIPTION:ab der 3. Klasse\n\nKontakt: Moni Ruprecht\n\nWeitere Infos:
  https://www.kirche-gossau-flawil.ch/veranstaltung/45575
SUMMARY:Anmeldung Clip Traum Josef
PRIORITY:5
X-MICROSOFT-CDO-IMPORTANCE:1
CLASS:PUBLIC
END:VEVENT
END:VCALENDAR
