BEGIN:VCALENDAR
PRODID:-//kirchenweb.ch gmbh//veranstaltungsausgabe v2.0//DE
VERSION:2.0
METHOD:PUBLISH
BEGIN:VEVENT
DTSTART:20261103T083000Z
DTEND:20261103T093000Z
LOCATION:Tertianum Feldegg\, Feldeggstrasse 6\, 9113 Degersheim
TRANSP:OPAQUE
SEQUENCE:0
UID:45846-veranstaltung@kirche-gossau-flawil.ch
DTSTAMP:20251212T145519Z
DESCRIPTION:Kontakt: Sekretariat\n\nWeitere Infos:
  https://www.kirche-gossau-flawil.ch/veranstaltung/45846
SUMMARY:Gottesdienst im Tertianum Feldegg
PRIORITY:5
X-MICROSOFT-CDO-IMPORTANCE:1
CLASS:PUBLIC
END:VEVENT
END:VCALENDAR
