BEGIN:VCALENDAR
PRODID:-//kirchenweb.ch gmbh//veranstaltungsausgabe v2.0//DE
VERSION:2.0
METHOD:PUBLISH
BEGIN:VEVENT
DTSTART:20260514T073000Z
DTEND:20260514T083000Z
LOCATION:Tertianum Steinegg\, Kirchweg 8\, 9113 Degersheim
TRANSP:OPAQUE
SEQUENCE:0
UID:45860-veranstaltung@kirche-gossau-flawil.ch
DTSTAMP:20260206T135542Z
DESCRIPTION:Kontakt: Sekretariat Jandira Müller\n\nWeitere Infos:
  https://www.kirche-gossau-flawil.ch/veranstaltung/45860
SUMMARY:kein Gottesdienst im Tertianum Steinegg
PRIORITY:5
X-MICROSOFT-CDO-IMPORTANCE:1
CLASS:PUBLIC
END:VEVENT
END:VCALENDAR
