BEGIN:VCALENDAR
PRODID:-//kirchenweb.ch gmbh//veranstaltungsausgabe v2.0//DE
VERSION:2.0
METHOD:PUBLISH
BEGIN:VEVENT
DTSTART:20260527T120000Z
DTEND:20260527T143000Z
LOCATION:Kirchgemeindehaus\, Steineggstrasse 12\, 9113 Degersheim
TRANSP:OPAQUE
SEQUENCE:0
UID:45989-veranstaltung@kirche-gossau-flawil.ch
DTSTAMP:20260330T134805Z
DESCRIPTION:Anmeldung\nbis am 24. Mai 2026 möglich \n\nKinder ab 7 Jahren
 \n\nKontakt: Bettina Wartenweiler\n\nWeitere Infos:
  https://www.kirche-gossau-flawil.ch/veranstaltung/45989
SUMMARY:Kids-Träff
PRIORITY:5
X-MICROSOFT-CDO-IMPORTANCE:1
CLASS:PUBLIC
END:VEVENT
END:VCALENDAR
