BEGIN:VCALENDAR
PRODID:-//kirchenweb.ch gmbh//veranstaltungsausgabe v2.0//DE
VERSION:2.0
METHOD:PUBLISH
BEGIN:VEVENT
DTSTART:20260524T074000Z
DTEND:20260524T084000Z
LOCATION:Kirche\, Steineggstrasse 10\, 9113 Degersheim
TRANSP:OPAQUE
SEQUENCE:0
UID:46009-veranstaltung@kirche-gossau-flawil.ch
DTSTAMP:20251212T142747Z
DESCRIPTION:anschliessend an den Gottesdienst sind alle herzlich zum
  Kirchenkaffee eingeladen.\n\nKontakt: Sekretariat\n\nWeitere Infos:
  https://www.kirche-gossau-flawil.ch/veranstaltung/46009
SUMMARY:Pfingsten: Gottesdienst mit Kirchenchor und Abendmahl
PRIORITY:5
X-MICROSOFT-CDO-IMPORTANCE:1
CLASS:PUBLIC
END:VEVENT
END:VCALENDAR
