BEGIN:VCALENDAR
PRODID:-//kirchenweb.ch gmbh//veranstaltungsausgabe v2.0//DE
VERSION:2.0
METHOD:PUBLISH
BEGIN:VEVENT
DTSTART:20260816T080000Z
DTEND:20260816T090000Z
LOCATION:Kath. Kirche Degersheim\, Bergstrasse 10\, 9113 Degersheim
TRANSP:OPAQUE
SEQUENCE:0
UID:46017-veranstaltung@kirche-gossau-flawil.ch
DTSTAMP:20251212T144154Z
DESCRIPTION:Kontakt: Sekretariat\n\nWeitere Infos:
  https://www.kirche-gossau-flawil.ch/veranstaltung/46017
SUMMARY:Ökum. Föhrenwäldli Gottesdienst (lead kath.)
PRIORITY:5
X-MICROSOFT-CDO-IMPORTANCE:1
CLASS:PUBLIC
END:VEVENT
END:VCALENDAR
