BEGIN:VCALENDAR
PRODID:-//kirchenweb.ch gmbh//veranstaltungsausgabe v2.0//DE
VERSION:2.0
METHOD:PUBLISH
BEGIN:VEVENT
DTSTART:20260823T074000Z
DTEND:20260823T084000Z
LOCATION:Evangelisch Reformierte Kirche\, Steineggstrasse 10\, 9113
  Degersheim
TRANSP:OPAQUE
SEQUENCE:0
UID:46018-veranstaltung@kirche-gossau-flawil.ch
DTSTAMP:20251212T144721Z
DESCRIPTION:anschliessend Kirchenkaffee\n\nKontakt: Sekretariat\n\nWeitere
  Infos: https://www.kirche-gossau-flawil.ch/veranstaltung/46018
SUMMARY:Gottesdienst
PRIORITY:5
X-MICROSOFT-CDO-IMPORTANCE:1
CLASS:PUBLIC
END:VEVENT
END:VCALENDAR
