BEGIN:VCALENDAR
PRODID:-//kirchenweb.ch gmbh//veranstaltungsausgabe v2.0//DE
VERSION:2.0
METHOD:PUBLISH
BEGIN:VEVENT
DTSTART:20260415T120000Z
DTEND:20260415T150000Z
LOCATION:Kath. Pfarreiheim\, Windeggstrasse 2\, 9113 Degersheim
TRANSP:OPAQUE
SEQUENCE:0
UID:46188-veranstaltung@kirche-gossau-flawil.ch
DTSTAMP:20260401T215516Z
DESCRIPTION:Singen mit "Maria und Monika"\nMiteinander singen verbindet! -
  Unter musikalischer Begleitung vertraute Lieder singen und Erinnerungen
  aufleben lassen\n\nKontakt: Sekretariat\n\nWeitere Infos:
  https://www.kirche-gossau-flawil.ch/veranstaltung/46188
SUMMARY:Ökum. Seniorennachmittag
PRIORITY:5
X-MICROSOFT-CDO-IMPORTANCE:1
CLASS:PUBLIC
END:VEVENT
END:VCALENDAR
