BEGIN:VCALENDAR
PRODID:-//kirchenweb.ch gmbh//veranstaltungsausgabe v2.0//DE
VERSION:2.0
METHOD:PUBLISH
BEGIN:VEVENT
DTSTART:20260603T060000Z
DTEND:20260603T160000Z
LOCATION:Abfahrt ab Bahnhof Degersheim\, Bahnhofstrasse 7\, 9113
  Degersheim
TRANSP:OPAQUE
SEQUENCE:0
UID:46189-veranstaltung@kirche-gossau-flawil.ch
DTSTAMP:20260410T130021Z
DESCRIPTION:Tagesausflug in Emmental BE mit Carchauffeur Hans Martin Enz
  v. GROSS-Reisen\n8.00 Uhr Abfahrt ab Bahnhof Degersheim\n8.05 Uhr Abfaht
  ab "alte Post" Wolfertswil\n\nKontakt: Sekretariat\n\nWeitere Infos:
  https://www.kirche-gossau-flawil.ch/veranstaltung/46189
SUMMARY:Ökum. Seniorenausflug ins Emmental BE
PRIORITY:5
X-MICROSOFT-CDO-IMPORTANCE:1
CLASS:PUBLIC
END:VEVENT
END:VCALENDAR
