BEGIN:VCALENDAR
PRODID:-//kirchenweb.ch gmbh//veranstaltungsausgabe v2.0//DE
VERSION:2.0
METHOD:PUBLISH
BEGIN:VEVENT
DTSTART;VALUE=DATE:20260916
DTEND;VALUE=DATE:20260917
LOCATION:Hotel Eden - an den Thermen\, Bad Krotzingen/D\, \,
TRANSP:OPAQUE
SEQUENCE:0
UID:46192-veranstaltung@kirche-gossau-flawil.ch
DTSTAMP:20251112T142407Z
DESCRIPTION:Detaillierte Angaben mit Anmeldeformular folgen\n\nKontakt:
  Sekretariat\n\nWeitere Infos:
  https://www.kirche-gossau-flawil.ch/veranstaltung/46192
SUMMARY:Seniorenferien 14.-19.9.2026
PRIORITY:5
X-MICROSOFT-CDO-IMPORTANCE:1
CLASS:PUBLIC
END:VEVENT
END:VCALENDAR
