BEGIN:VCALENDAR
PRODID:-//kirchenweb.ch gmbh//veranstaltungsausgabe v2.0//DE
VERSION:2.0
METHOD:PUBLISH
BEGIN:VEVENT
DTSTART:20261022T170000Z
DTEND:20261022T173000Z
LOCATION:Kirche\, Steineggstrasse 10\, 9113 Degersheim
TRANSP:OPAQUE
SEQUENCE:0
UID:46386-veranstaltung@kirche-gossau-flawil.ch
DTSTAMP:20251128T124448Z
DESCRIPTION:Kontakt: Team: \nPfarrer Kurt Witzig\, evang.-ref. Kirche
 \nSeelsorger Silvan Hollenstein\, kath. Kirche \n\nWeitere Infos:
  https://www.kirche-gossau-flawil.ch/veranstaltung/46386
SUMMARY:Ökum. Friedensgebet
PRIORITY:5
X-MICROSOFT-CDO-IMPORTANCE:1
CLASS:PUBLIC
END:VEVENT
END:VCALENDAR
