BEGIN:VCALENDAR
PRODID:-//kirchenweb.ch gmbh//veranstaltungsausgabe v2.0//DE
VERSION:2.0
METHOD:PUBLISH
BEGIN:VEVENT
DTSTART:20260917T170000Z
DTEND:20260917T173000Z
LOCATION:Kath. Kirche Degersheim\, Bergstrasse 10\, 9113 Degersheim
TRANSP:OPAQUE
SEQUENCE:0
UID:46439-veranstaltung@kirche-gossau-flawil.ch
DTSTAMP:20251202T075742Z
DESCRIPTION:Kontakt: Seelsorger Silvan Hollenstein\, kath. Kirche \n
 \nWeitere Infos: https://www.kirche-gossau-flawil.ch/veranstaltung/46439
SUMMARY:Ökum. Friedensgebet
PRIORITY:5
X-MICROSOFT-CDO-IMPORTANCE:1
CLASS:PUBLIC
END:VEVENT
END:VCALENDAR
