BEGIN:VCALENDAR
PRODID:-//kirchenweb.ch gmbh//veranstaltungsausgabe v2.0//DE
VERSION:2.0
METHOD:PUBLISH
BEGIN:VEVENT
DTSTART:20261112T180000Z
DTEND:20261112T183000Z
LOCATION:Kath. Kirche Degersheim\, Bergstrasse 10\, 9113 Degersheim
TRANSP:OPAQUE
SEQUENCE:0
UID:46440-veranstaltung@kirche-gossau-flawil.ch
DTSTAMP:20251202T075743Z
DESCRIPTION:Kontakt: Seelsorger Silvan Hollenstein\, kath. Kirche \n
 \nWeitere Infos: https://www.kirche-gossau-flawil.ch/veranstaltung/46440
SUMMARY:Ökum. Friedensgebet
PRIORITY:5
X-MICROSOFT-CDO-IMPORTANCE:1
CLASS:PUBLIC
END:VEVENT
END:VCALENDAR
