BEGIN:VCALENDAR
PRODID:-//kirchenweb.ch gmbh//veranstaltungsausgabe v2.0//DE
VERSION:2.0
METHOD:PUBLISH
BEGIN:VEVENT
DTSTART:20260829T161500Z
DTEND:20260829T180000Z
LOCATION:Kirchgemeindehaus\, Steineggstrasse 12\, 9113 Degersheim
TRANSP:OPAQUE
SEQUENCE:0
UID:46597-veranstaltung@kirche-gossau-flawil.ch
DTSTAMP:20251212T192119Z
DESCRIPTION:Teilete nach dem GoDi am Samstag im Kirchgemeindehaus für
  alle.\n\nKontakt: Sekretariat Jandira Müller\n\nWeitere Infos:
  https://www.kirche-gossau-flawil.ch/veranstaltung/46597
SUMMARY:Teilete
PRIORITY:5
X-MICROSOFT-CDO-IMPORTANCE:1
CLASS:PUBLIC
END:VEVENT
END:VCALENDAR
