BEGIN:VCALENDAR
PRODID:-//kirchenweb.ch gmbh//veranstaltungsausgabe v2.0//DE
VERSION:2.0
METHOD:PUBLISH
BEGIN:VEVENT
DTSTART:20260922T170000Z
DTEND:20260922T181500Z
LOCATION:Kirchgemeindehaus\, Steineggstrasse 12\, 9113 Degersheim
TRANSP:OPAQUE
SEQUENCE:0
UID:46734-veranstaltung@kirche-gossau-flawil.ch
DTSTAMP:20251214T105851Z
DESCRIPTION:Roundabout «youth» ca. 12 bis 20 Jahre\n\n\nKontakt: Bettina
  Wartenweiler\n\nWeitere Infos:
  https://www.kirche-gossau-flawil.ch/veranstaltung/46734
SUMMARY:Roundabout «youth»
PRIORITY:5
X-MICROSOFT-CDO-IMPORTANCE:1
CLASS:PUBLIC
END:VEVENT
END:VCALENDAR
