BEGIN:VCALENDAR
PRODID:-//kirchenweb.ch gmbh//veranstaltungsausgabe v2.0//DE
VERSION:2.0
METHOD:PUBLISH
BEGIN:VEVENT
DTSTART:20261024T151500Z
DTEND:20261024T161500Z
LOCATION:Kirchgemeindehaus\, Steineggstrasse 12\, 9113 Degersheim
TRANSP:OPAQUE
SEQUENCE:0
UID:46924-veranstaltung@kirche-gossau-flawil.ch
DTSTAMP:20251217T093908Z
DESCRIPTION:Kinderhüeti für Kinder bis 10 Jahren\n\nKontakt: Bettina
  Wartenweiler\n\nWeitere Infos:
  https://www.kirche-gossau-flawil.ch/veranstaltung/46924
SUMMARY:Kinderhüeti
PRIORITY:5
X-MICROSOFT-CDO-IMPORTANCE:1
CLASS:PUBLIC
END:VEVENT
END:VCALENDAR
