BEGIN:VCALENDAR
PRODID:-//kirchenweb.ch gmbh//veranstaltungsausgabe v2.0//DE
VERSION:2.0
METHOD:PUBLISH
BEGIN:VEVENT
DTSTART:20260520T173000Z
DTEND:20260520T190000Z
LOCATION:Kirchgemeindehaus\, Steineggstrasse 12\, 9113 Degersheim
TRANSP:OPAQUE
SEQUENCE:0
UID:47109-veranstaltung@kirche-gossau-flawil.ch
DTSTAMP:20260415T042211Z
DESCRIPTION:Jeweils mittwochs um 19.30 Uhr \nAnhand von
  biblischen Geschichten aus den Evangelien wollen wir miteinander ins
  Gespräch kommen. Der Mensch lebt nicht nur vom Brot allein\, sondern
  auch vom Wort Gottes\, sagt Jesus. Angedacht ist ein Turnus von etwa
  alle drei bis vier Wochen. \nDie Treffen können auch einzeln besucht
  werden\, wobei eine regelmässige Teilnahme von Vorteil ist für die
  Gruppe.\nEs werden keine klassischen Bibelabende im Vortragsstil
  sein. Vorkenntnisse sind nicht nötig. \nZiel ist es\, den Reichtum von
  biblischen Geschichten zu entdecken und was das mit meinem Leben zu tun
  hat. Das geschieht auch im Austausch untereinander. \nEine Anmeldung ist
  hilfreich für die Vorbereitung.\nHerzlich willkommen.\nKurt Witzig \n
 \nKontakt: Pfarrer Kurt Witzig\n\nWeitere Infos:
  https://www.kirche-gossau-flawil.ch/veranstaltung/47109
SUMMARY:Bibelgespräch - mittwochs
PRIORITY:5
X-MICROSOFT-CDO-IMPORTANCE:1
CLASS:PUBLIC
END:VEVENT
END:VCALENDAR
