BEGIN:VCALENDAR
PRODID:-//kirchenweb.ch gmbh//veranstaltungsausgabe v2.0//DE
VERSION:2.0
METHOD:PUBLISH
BEGIN:VEVENT
DTSTART:20260822T073000Z
DTEND:20260822T093000Z
LOCATION:Kirchgemeindehaus\, Steineggstrasse 12\, 9113 Degersheim
TRANSP:OPAQUE
SEQUENCE:0
UID:47446-veranstaltung@kirche-gossau-flawil.ch
DTSTAMP:20260210T194111Z
DESCRIPTION:"Ehen zerbrechen leise - ein Frühwarnsystem entwickeln"\n
 \nEhen zerbrechen erwiesenermassen leise\, mit winzig kleinen Anfängen.
  Frühwarnsysteme und Rissprophylaxen sind deshalb gefragt und mutige
  Paare\, die hinsehen. Wenn Sie weitverbreitete Bruchstellen
  kennenlernen\, haben Sie für Ihre Beziehung etwas Wertvolles gelernt.\n
 \nReferat und Einzelarbeit als Ehepaar\n\nVeranstalter: Evang.
  Kirchgemeinde und\nJosef Villiger (Leitung)\n\nmit Anmeldung: \nKosten: 
 \n\nKontakt: Pfarrer Kurt Witzig\nJosef Villiger\n\nWeitere Infos:
  https://www.kirche-gossau-flawil.ch/veranstaltung/47446
SUMMARY:Eheseminar
PRIORITY:5
X-MICROSOFT-CDO-IMPORTANCE:1
CLASS:PUBLIC
END:VEVENT
END:VCALENDAR
