BEGIN:VCALENDAR
PRODID:-//kirchenweb.ch gmbh//veranstaltungsausgabe v2.0//DE
VERSION:2.0
METHOD:PUBLISH
BEGIN:VEVENT
DTSTART:20260606T154500Z
DTEND:20260606T203000Z
LOCATION:Lütisburg\, \,
TRANSP:OPAQUE
SEQUENCE:0
UID:47828-veranstaltung@kirche-gossau-flawil.ch
DTSTAMP:20260309T204317Z
DESCRIPTION:Wir fahren gemeinsam ans Refresh Event im Toggenburg.\nEine
  Teilnahme ist kostenlos (Hin- und Rückfahrt und Abendessen und Getränke
  vor Ort).\n\n\nKontakt: André Eberle\n\nWeitere Infos:
  https://www.kirche-gossau-flawil.ch/veranstaltung/47828
SUMMARY:Refresh Event Toggenburg
PRIORITY:5
X-MICROSOFT-CDO-IMPORTANCE:1
CLASS:PUBLIC
END:VEVENT
END:VCALENDAR
