BEGIN:VCALENDAR
PRODID:-//kirchenweb.ch gmbh//veranstaltungsausgabe v2.0//DE
VERSION:2.0
METHOD:PUBLISH
BEGIN:VEVENT
DTSTART:20280310T140000Z
DTEND:20280310T225900Z
LOCATION:Ausserhaus\, \,
TRANSP:OPAQUE
SEQUENCE:0
UID:47868-veranstaltung@kirche-gossau-flawil.ch
DTSTAMP:20260317T075840Z
DESCRIPTION:Kontakt: Sekretariat Jandira Müller\n\nWeitere Infos:
  https://www.kirche-gossau-flawil.ch/veranstaltung/47868
SUMMARY:Retraite Lihn
PRIORITY:5
X-MICROSOFT-CDO-IMPORTANCE:1
CLASS:PUBLIC
END:VEVENT
END:VCALENDAR
