BEGIN:VCALENDAR
PRODID:-//kirchenweb.ch gmbh//veranstaltungsausgabe v2.0//DE
VERSION:2.0
METHOD:PUBLISH
BEGIN:VEVENT
DTSTART:20270718T074000Z
DTEND:20270718T084000Z
LOCATION:Ev.-ref. Kirche im Feld\, St. Gallerstrasse\, 9230 Flawil
TRANSP:OPAQUE
SEQUENCE:0
UID:48086-veranstaltung@kirche-gossau-flawil.ch
DTSTAMP:20260414T094909Z
DESCRIPTION:anschliessend Kirchenkaffee\n\nKontakt: Sekretariat\n\nWeitere
  Infos: https://www.kirche-gossau-flawil.ch/veranstaltung/48086
SUMMARY:Einladungs-Gottesdienst in Flawil mit Degersheim
PRIORITY:5
X-MICROSOFT-CDO-IMPORTANCE:1
CLASS:PUBLIC
END:VEVENT
END:VCALENDAR
