BEGIN:VCALENDAR
PRODID:-//kirchenweb.ch gmbh//veranstaltungsausgabe v2.0//DE
VERSION:2.0
METHOD:PUBLISH
BEGIN:VEVENT
DTSTART:20271224T213000Z
DTEND:20271224T223000Z
LOCATION:Evangelisch Reformierte Kirche\, Steineggstrasse 12\, 9113
  Degersheim
TRANSP:OPAQUE
SEQUENCE:0
UID:48089-veranstaltung@kirche-gossau-flawil.ch
DTSTAMP:20260414T094745Z
DESCRIPTION:Kontakt: Sekretariat\n\nWeitere Infos:
  https://www.kirche-gossau-flawil.ch/veranstaltung/48089
SUMMARY:Christnachfeier
PRIORITY:5
X-MICROSOFT-CDO-IMPORTANCE:1
CLASS:PUBLIC
END:VEVENT
END:VCALENDAR
