BEGIN:VCALENDAR
PRODID:-//kirchenweb.ch gmbh//veranstaltungsausgabe v2.0//DE
VERSION:2.0
METHOD:PUBLISH
BEGIN:VEVENT
DTSTART:20271224T160000Z
DTEND:20271224T170000Z
LOCATION:Evangelisch Reformierte Kirche\, Steineggstrasse 12\, 9113
  Degersheim
TRANSP:OPAQUE
SEQUENCE:0
UID:48090-veranstaltung@kirche-gossau-flawil.ch
DTSTAMP:20260414T094745Z
DESCRIPTION:Ökumenischer Gottesdienst an Heilig Abend für die ganze
  Familie.\n\nKontakt: Sekretariat\n\nWeitere Infos:
  https://www.kirche-gossau-flawil.ch/veranstaltung/48090
SUMMARY:Familiengottesdienst an Heilig Abend
PRIORITY:5
X-MICROSOFT-CDO-IMPORTANCE:1
CLASS:PUBLIC
END:VEVENT
END:VCALENDAR
